Workbook
Name その他: ドロップダウンリスト!#REF!
Name 委託料: ドロップダウンリスト!#REF!
Name 経費の種類: ドロップダウンリスト!#REF!
Name 原材料費: ドロップダウンリスト!#REF!
Name 使用料: ドロップダウンリスト!#REF!
Name 需用費: ドロップダウンリスト!#REF!
Name 費目: ドロップダウンリスト!#REF!
Name 報償費: ドロップダウンリスト!#REF!
Name 役務費: ドロップダウンリスト!#REF!
Name 旅費: ドロップダウンリスト!#REF!

Sheet ドロップダウンリスト
A1: 年度 | B1: 令和８年度 | F1: 編集しない！
A3: （団体区分） | C3: （事業名）
A4: 市民活動団体 | C4: 子育て支援センター運営業務
A5: コミュニティ運営協議会 | C5: 市民活動コーディネート業務
C6: 二十歳のつどい運営業務
A8: (生年月日)
A9: 昭和
A10: 平成
A12: （性別）
A13: 男性
A14: 女性

Sheet 1団体調書
A1: 様式第1号
T2: 令和 | V2: 年 | X2: 月 | Z2: 日
A3: 宗像市長 あて
J5: =ドロップダウンリスト!B1 -> 令和８年度 | K5: 宗像市公募型協働委託
L6: 団体調書
A8: ふりがな
A9: 団体名 （正式名称）
A10: 団体区分
A11: 代表者情報 | E11: ふりがな
E12: 代表者氏名
E14: 生年月日 | M14: 年 | P14: 月 | S14: 日 | T14: 性別
A15: 担当者連絡先 | E15: ふりがな
E16: 担当者氏名
E18: 担当者住所 | I18: 〒 | L18: ー
E20: 電話番号
E22: メールアドレス
A24: 団体の 活動目的
A27: 主な活動内容
A30: 団体の HP、SNS等
A32: 役員名簿 | E32: ふりがな | M32: 生年月日 | X32: 性別
E33: 氏名
Q34: 年 | T34: 月 | W34: 日
Q36: 年 | T36: 月 | W36: 日
Q38: 年 | T38: 月 | W38: 日
Q40: 年 | T40: 月 | W40: 日
Q42: 年 | T42: 月 | W42: 日
Q44: 年 | T44: 月 | W44: 日
Q46: 年 | T46: 月 | W46: 日
Q48: 年 | T48: 月 | W48: 日
Q50: 年 | T50: 月 | W50: 日
Q52: 年 | T52: 月 | W52: 日
Q54: 年 | T54: 月 | W54: 日
Q56: 年 | T56: 月 | W56: 日
... Q74: 年 | T74: 月 | W74: 日
A77: 添付書類 | F77: 直近1年間の活動実績が分かるもの（活動報告、総会資料等）
F78: 団体の会計状況が分かるもの（前年度の決算書、今年度の予算書）
A79: ＊ご提供いただいた情報は、関係機関の照会に利用します。

Sheet 2誓約書
A1: 様式第2号
T2: 令和 | V2: 年 | X2: 月 | Z2: 日
J4: =ドロップダウンリスト!B1 -> 令和８年度 | K4: 宗像市公募型協働委託
L5: 誓約書
A8: 以下に掲げる宗像市行政サービスの協働に関する要綱第３条第２項各号（下記事項）のいずれにも該当
A9: しないことを誓約します。
A11: （１） | B11: 代表者又は役員が破産手続き開始の決定を受けて復権を得ない者である団体
A13: （２） | B13: 代表者又は役員が成年被後見人若しくは被保佐人である団体
A15: （３） | B15: 代表者又は役員が拘禁刑以上の刑に処せられ、その執行を終わるまでまたはその執行を受けること
B16: がなくなるまでの者である団体
A18: （４） | B18: 代表者又は役員が暴力団員による不当な行為の防止等に関する法律（平成３年法律第７７号）第２条
B19: 第６号に規定する暴力団員（以下この条において「暴力団員」という。）又は暴力団員でなくなった日
B20: から5年を経過しない者である団体
A22: （５） | B22: 暴力団員又は暴力団員でなくなった日から５年を経過しない者がその事業活動を支配している団体
A24: （６） | B24: 代表者が宗像市税を滞納している団体
A29: 宗像市長 あて
Q30: 令和 | T30: 年 | W30: 月 | Z30: 日
H32: 住所 | L32: 〒 | O32: ー
H34: 団体名 | L34: =IF('1団体調書'!$E$9="","",'1団体調書'!$E$9) | W34: ㊞
H36: 代表者氏名 | L36: =IF('1団体調書'!$I$12="","",'1団体調書'!$I$12) | W36: ㊞

Sheet 3業務企画書
A1: 様式第3号
T2: 令和 | V2: 年 | X2: 月 | Z2: 日
A3: 宗像市長 あて
N4: （申請団体）
N5: 団体名： | R5: =IF('1団体調書'!$E$9="","",'1団体調書'!$E$9)
N6: 代表者氏名： | R6: =IF('1団体調書'!$I$12="","",'1団体調書'!$I$12)
K9: =ドロップダウンリスト!B1 -> 令和８年度 | L9: 宗像市公募型協働委託
L10: 業務企画書
A12: 1．業務概要
A13: 業務名 (業務概要書より転記)
A14: 希望実施期間 (最長3年間) | E14: 令和 | I14: 年 | M14: 月 | N14: ～ | O14: 令和 | S14: 年 | W14: 月
A15: 契約希望額 | M15: 円 | N15: 市からの委託料記入、別紙「収支計画書」参照
A18: 2．当該業務における実施体制
A19: 氏名 | H19: 役職 | N19: 事業の中での役割
O31: 団体名： | R31: =IF('1団体調書'!$E$9="","",'1団体調書'!$E$9)
O32: 業務名： | R32: =IF('1団体調書'!$I$12="","",'1団体調書'!$I$12)
A34: ３．企画内容
A35: 具体的な手法・活動内容
O48: 団体名： | R48: =IF('1団体調書'!$E$9="","",'1団体調書'!$E$9)
O49: 業務名： | R49: =IF('1団体調書'!$I$12="","",'1団体調書'!$I$12)
A51: 4．市との主な役割分担と考え方
A52: 団体の役割 | N52: 市の役割
A57: 継続的に連携、協働していくための手立て
A62: 5．目指す成果
A63: 団体によって実現できる成果・効果

Sheet 4収支計画書
A1: 様式第4号
N2: 団体名： | R2: =IF('1団体調書'!$E$9="","",'1団体調書'!$E$9)
N3: 代表者氏名： | R3: =IF('1団体調書'!$I$12="","",'1団体調書'!$I$12)
J5: =ドロップダウンリスト!B1 -> 令和８年度 | K5: 宗像市公募型協働委託
K6: 収支計画書
A8: 業務名 | E8: =IF('3業務企画書'!$E$13="","",'3業務企画書'!$E$13)
A10: 1．収支の内訳（委託料、参加費等を含む当該業務に係る収入※自主事業収入を除く） | Z10: (単位:円)
A11: 収入 | C11: 費目 | H11: 金額 | N11: 摘要（内訳・積算根拠）
C12: 委託料 | M12: 円
C13: その他収入 | D13: 参加費等 | M13: 円
D14: その他 | M14: 円
D15: 小計 | H15: =SUM(H13:M14) -> 0 | M15: 円
C16: 収入合計 | H16: =H12+H15 -> 0 | M16: 円
A18: 2．支出の内訳（当該業務に係る支出※自主事業支出を除く）
A19: 支出 | C19: 費目 | H19: 金額 | N19: 摘要（内訳・積算根拠）
M20: 円
M21: 円
M22: 円
M23: 円
M24: 円
M25: 円
M26: 円
M27: 円
M28: 円
M29: 円
M30: 円
M31: 円
... M35: 円
C36: 支出合計 | H36: =SUM(H20:L35) -> 0 | M36: 円

Sheet 5実績報告書
A1: 様式第5号
T2: 令和 | V2: 年 | X2: 月 | Z2: 日
A4: 宗像市長 あて
O5: 団体名： | Q5: =IF('1団体調書'!$E$9="","",'1団体調書'!$E$9)
O6: 代表者氏名： | Q6: =IF('1団体調書'!$I$12="","",'1団体調書'!$I$12)
K8: =ドロップダウンリスト!B1 -> 令和８年度 | L8: 宗像市公募型協働委託
L9: 実績報告書
A11: 業務名 | E11: =IF('3業務企画書'!$E$13="","",'3業務企画書'!$E$13)
A13: 業務実施状況 | E13: ＊実施した経過を含めて記入してください。
A21: 業務の 成果・効果 | E21: ＊課題等を含めて記入してください。
A26: 団体としての 相乗効果
A31: ＊参加人数やアンケート結果等の具体的な数値を使って分かりやすく整理してください。
